BEGIN:VCALENDAR
VERSION:2.0
PRODID:-//Town of Taycheedah - ECPv6.15.20//NONSGML v1.0//EN
CALSCALE:GREGORIAN
METHOD:PUBLISH
X-ORIGINAL-URL:https://www.townoftaycheedahwi.gov
X-WR-CALDESC:Events for Town of Taycheedah
REFRESH-INTERVAL;VALUE=DURATION:PT1H
X-Robots-Tag:noindex
X-PUBLISHED-TTL:PT1H
BEGIN:VTIMEZONE
TZID:America/Chicago
BEGIN:DAYLIGHT
TZOFFSETFROM:-0600
TZOFFSETTO:-0500
TZNAME:CDT
DTSTART:20250309T080000
END:DAYLIGHT
BEGIN:STANDARD
TZOFFSETFROM:-0500
TZOFFSETTO:-0600
TZNAME:CST
DTSTART:20251102T070000
END:STANDARD
BEGIN:DAYLIGHT
TZOFFSETFROM:-0600
TZOFFSETTO:-0500
TZNAME:CDT
DTSTART:20260308T080000
END:DAYLIGHT
BEGIN:STANDARD
TZOFFSETFROM:-0500
TZOFFSETTO:-0600
TZNAME:CST
DTSTART:20261101T070000
END:STANDARD
BEGIN:DAYLIGHT
TZOFFSETFROM:-0600
TZOFFSETTO:-0500
TZNAME:CDT
DTSTART:20270314T080000
END:DAYLIGHT
BEGIN:STANDARD
TZOFFSETFROM:-0500
TZOFFSETTO:-0600
TZNAME:CST
DTSTART:20271107T070000
END:STANDARD
END:VTIMEZONE
BEGIN:VEVENT
DTSTART;TZID=America/Chicago:20260302T170000
DTEND;TZID=America/Chicago:20260302T180000
DTSTAMP:20260425T071154
CREATED:20260301T224928Z
LAST-MODIFIED:20260409T005159Z
UID:15152-1772470800-1772474400@www.townoftaycheedahwi.gov
SUMMARY:Johnsburg Monthly Sanitary Meeting
DESCRIPTION:JOHNSBURG SANITARY DISTRICT\nMonthly Meeting\nMonday\, March 2nd \, 2026\n5:00 p.m.\nSt. John the Baptist Parish Office\n1. Call to order.\n2. Approval of the minutes of the 2/5/2026 meeting.\n3. Discussion and possible action regarding operational issues:\na. Meter station.\nb. Lift stations.\nc. Grinder pump stations.\nd. Other operational reports.\n4. Consideration and possible acceptance of a quote for sewer main televising.\n5. Approval of District bills.\n6. Schedule the next meeting.\n7. Adjournment. \nBrenda A. Schneider\nRecording Secretary \nJohnsburg Sanitary District 3.02.2026 minutes\nPlease note\, upon reasonable notice\, efforts will be made to accommodate\nthe needs of disabled individuals through appropriate aids and services. For\nadditional information or to request this service\, please contact Brenda\nSchneider at districtsecretary@townoftaycheedah.com
URL:https://www.townoftaycheedahwi.gov/calendar/johnsburg-monthly-sanitary-meeting-2/
LOCATION:St. John’s the Baptist Parish House\, N9288 Cty Q\, Malone\, WI\, 53049\, United States
ORGANIZER;CN="Brenda Schneider":MAILTO:districtsecretary@townoftaycheedah.com
END:VEVENT
BEGIN:VEVENT
DTSTART;TZID=America/Chicago:20260309T190000
DTEND;TZID=America/Chicago:20260309T200000
DTSTAMP:20260425T071154
CREATED:20260301T230001Z
LAST-MODIFIED:20260301T230001Z
UID:15156-1773082800-1773086400@www.townoftaycheedahwi.gov
SUMMARY:TOWN BOARD MTG MOVED TO 16th
DESCRIPTION:THE TOWN BOARD MEETING HAS BEEN RESCHEDULED TO MONDAY\, MARCH 16\, 2026 AT 7:00 p.m.
URL:https://www.townoftaycheedahwi.gov/calendar/town-board-mtg-moved-to-16th-2/
LOCATION:Taycheedah Town Hall\, W4295 Kiekhaefer Parkway\, Fond du Lac\, WI\, 54937\, United States
END:VEVENT
BEGIN:VEVENT
DTSTART;TZID=America/Chicago:20260316T190000
DTEND;TZID=America/Chicago:20260316T200000
DTSTAMP:20260425T071154
CREATED:20260314T154953Z
LAST-MODIFIED:20260317T004928Z
UID:15167-1773687600-1773691200@www.townoftaycheedahwi.gov
SUMMARY:Town Board Monthly Meeting
DESCRIPTION:TOWN OF TAYCHEEDAH\nMonthly Board Meeting\nMonday\, March 16\, 2026\n7:00 p.m.\n  \nAgenda\nCall to order \nPledge of Allegiance \nApproval of meeting minutes \nReports: \n\nPark & Rec. Advisory Council\nRoad Dept. Manager’s Report\n\nReview financial reports \n\nApproval of Town Bills\n\n  \nNew Business\n\nAnnual Stormwater Reports AECOM: Action to Authorize Towns Attorney & AECOM to submit the 2025 stormwater annual report.\nClerks Office Hours\n\n  \nOrdinance Enforcement\n  \nCertified Survey Maps\n  \nAdjournment\n  \nKristin A. Marcoe\, Clerk \n  \nTown Board Minutes 3-16-26 DRAFT\n  \nPlease note\, upon reasonable notice\, efforts will be made to accommodate the needs of disabled individuals through appropriate aids and services.  For additional information\, or to request this service\, please contact Kristin Marcoe at 920-907-9625.
URL:https://www.townoftaycheedahwi.gov/calendar/town-board-monthly-meeting-91/
LOCATION:Taycheedah Town Hall\, W4295 Kiekhaefer Parkway\, Fond du Lac\, WI\, 54937\, United States
END:VEVENT
BEGIN:VEVENT
DTSTART;TZID=America/Chicago:20260318T173000
DTEND;TZID=America/Chicago:20260318T183000
DTSTAMP:20260425T071154
CREATED:20260317T010519Z
LAST-MODIFIED:20260317T010519Z
UID:15171-1773855000-1773858600@www.townoftaycheedahwi.gov
SUMMARY:TSD #3 Monthly Meeting
DESCRIPTION:Taycheedah Sanitary District No. 3-\nSt. Peter Area Sanitary District Commission\nMonthly Meeting\nWednesday\, March 18\, 2026\n5:30 p.m.\nTaycheedah Town Hall\nW4295 Kiekhaefer Parkway\n  \nAgenda\nCall to order. \nPledge of Allegiance. \nApproval of the minutes of the 8/20/2025 and 3/18/2026 meetings. \nApproval of bills. \n  \nSewer System Maintenance:\n\nConsideration and possible action regarding general maintenance and operational issues.\n\n\n\n\nMeter stations.\nLift Stations.\nGrinder pump stations.\nClearwater elimination.\nTelevising.\nOther maintenance and operational issues.\n\n\n\n  \nNew Business:\n\nDiscussion and possible authorization to renew a maturing investment.\nDiscuss compiling a newsletter to be included with the April billing.\n\n  \nSchedule next meeting.\n\nComments from the public pertaining to District business.\n\nAdjournment.\n  \nBrenda A. Schneider \nRecording Secretary \n   \nPlease note\, that upon reasonable notice\, efforts will be made to accommodate the needs of disabled individuals through appropriate aids and services. For additional information or to request this service\, please contact Brenda Schneider at districtsecretary@townoftaycheedah.com.
URL:https://www.townoftaycheedahwi.gov/calendar/tsd-3-monthly-meeting-78/
LOCATION:Taycheedah Town Hall\, W4295 Kiekhaefer Parkway\, Fond du Lac\, WI\, 54937\, United States
END:VEVENT
BEGIN:VEVENT
DTSTART;TZID=America/Chicago:20260323T170000
DTEND;TZID=America/Chicago:20260323T180000
DTSTAMP:20260425T071154
CREATED:20260318T224709Z
LAST-MODIFIED:20260318T224709Z
UID:15174-1774285200-1774288800@www.townoftaycheedahwi.gov
SUMMARY:TSD #1 Monthly Meeting
DESCRIPTION:TAYCHEEDAH SANITARY DISTRICT NO. 1\nREGULAR BUSINESS MEETING\nMarch 23\, 2026 – 5:00 P.M.\nTAYCHEEDAH TOWN HALL\nW4295 KIEKHAEFER PARKWAY – FOND DU LAC\, WI 54937\n  \nAgenda\nCall to Order \nPledge of Allegiance. \nApproval of Agenda \nApproval of February 23\, 2026 Regular Business Meeting Minutes \n  \nRegular Business\nFinancial Report – CLA \nReview of Synopsis \nApprove bills/sign checks \nInspector’s Report \nMaintenance Report \nAdministrative Clerk’s Report \n   \nUnfinished Business\n\nDiscussion and possible action on billing set-up for W4502\, W4506\, and W4510 Lakepark Drive.\nDiscussion and possible acceptance of a quote for sewer main cleaning and televising.\n\n  \nNew Business\n  \nPublic Comment – TSD No. 1 Sanitary District Business\n  \nAdjournment\n  \nPriscilla Yohann – Administrative Clerk \nTaycheedah Sanitary District No. 1 \n  \nPlease Note:  Upon reasonable notice efforts will be made to accommodate the needs of disabled individuals through appropriate aids and services.  For additional information or to request this service please contact Priscilla Yohann at tsd1clerk@charter.net or 920-923-0406.
URL:https://www.townoftaycheedahwi.gov/calendar/tsd-1-monthly-meeting-69/
LOCATION:Taycheedah Town Hall\, W4295 Kiekhaefer Parkway\, Fond du Lac\, WI\, 54937\, United States
ORGANIZER;CN="Priscilla Yohann":MAILTO:tsd1clerk@charter.net
END:VEVENT
BEGIN:VEVENT
DTSTART;TZID=America/Chicago:20260324T090000
DTEND;TZID=America/Chicago:20260324T120000
DTSTAMP:20260425T071154
CREATED:20260305T020048Z
LAST-MODIFIED:20260305T020048Z
UID:15161-1774342800-1774353600@www.townoftaycheedahwi.gov
SUMMARY:In-Person Absentee Voting
DESCRIPTION:The Town of Taycheedah is offering additional in-person voting hours for the April 7\, 2026 election.  The townhall voting hours are listed above.
URL:https://www.townoftaycheedahwi.gov/calendar/in-person-absentee-voting-55/
LOCATION:Taycheedah Town Hall\, W4295 Kiekhaefer Parkway\, Fond du Lac\, WI\, 54937\, United States
END:VEVENT
BEGIN:VEVENT
DTSTART;TZID=America/Chicago:20260326T090000
DTEND;TZID=America/Chicago:20260326T120000
DTSTAMP:20260425T071155
CREATED:20260305T020157Z
LAST-MODIFIED:20260305T020157Z
UID:15162-1774515600-1774526400@www.townoftaycheedahwi.gov
SUMMARY:In-Person Absentee Voting
DESCRIPTION:The Town of Taycheedah is offering additional in-person voting hours for the April 7\, 2026 election.  The townhall voting hours are listed above.
URL:https://www.townoftaycheedahwi.gov/calendar/in-person-absentee-voting-56/
LOCATION:Taycheedah Town Hall\, W4295 Kiekhaefer Parkway\, Fond du Lac\, WI\, 54937\, United States
END:VEVENT
END:VCALENDAR