BEGIN:VCALENDAR
VERSION:2.0
PRODID:-//Town of Taycheedah - ECPv6.15.20//NONSGML v1.0//EN
CALSCALE:GREGORIAN
METHOD:PUBLISH
X-WR-CALNAME:Town of Taycheedah
X-ORIGINAL-URL:https://www.townoftaycheedahwi.gov
X-WR-CALDESC:Events for Town of Taycheedah
REFRESH-INTERVAL;VALUE=DURATION:PT1H
X-Robots-Tag:noindex
X-PUBLISHED-TTL:PT1H
BEGIN:VTIMEZONE
TZID:America/Chicago
BEGIN:DAYLIGHT
TZOFFSETFROM:-0600
TZOFFSETTO:-0500
TZNAME:CDT
DTSTART:20250309T080000
END:DAYLIGHT
BEGIN:STANDARD
TZOFFSETFROM:-0500
TZOFFSETTO:-0600
TZNAME:CST
DTSTART:20251102T070000
END:STANDARD
BEGIN:DAYLIGHT
TZOFFSETFROM:-0600
TZOFFSETTO:-0500
TZNAME:CDT
DTSTART:20260308T080000
END:DAYLIGHT
BEGIN:STANDARD
TZOFFSETFROM:-0500
TZOFFSETTO:-0600
TZNAME:CST
DTSTART:20261101T070000
END:STANDARD
BEGIN:DAYLIGHT
TZOFFSETFROM:-0600
TZOFFSETTO:-0500
TZNAME:CDT
DTSTART:20270314T080000
END:DAYLIGHT
BEGIN:STANDARD
TZOFFSETFROM:-0500
TZOFFSETTO:-0600
TZNAME:CST
DTSTART:20271107T070000
END:STANDARD
END:VTIMEZONE
BEGIN:VEVENT
DTSTART;TZID=America/Chicago:20260418T093000
DTEND;TZID=America/Chicago:20260418T120000
DTSTAMP:20260420T081442
CREATED:20260330T230948Z
LAST-MODIFIED:20260330T230948Z
UID:15181-1776504600-1776513600@www.townoftaycheedahwi.gov
SUMMARY:Taycheedah Cemetery Cleanup
DESCRIPTION:We are asking for anyone available to help with cleaning up the Taycheedah Cemetery on April 18\, 2026 from 9:30 a.m. – noon. \nPlease bring your own rakes\, wheelbarrows and/or tarps to move leaves and brush.  We will be raking everything in a pile for pickup. \nLocation: Golf Course Drive and Red Fox Run
URL:https://www.townoftaycheedahwi.gov/calendar/taycheedah-cemetery-cleanup/
LOCATION:Taycheedah Cemetery\, Golf Course Dr and Red Fox Run\, Fond du Lac\, WI\, 54935\, United States
END:VEVENT
END:VCALENDAR